Workbook

Sheet エントリーシートの説明
H2: Safety Driving Award 2026 エントリーシート
C4: この度は、Safety Driving Award 2026にご興味を持っていただきまして誠にありがとうございます。
C5: 本書類は、Safety Driving Award 2026のエントリーシートです。本書類に必要事項を記入し、応募締切までにご応募ください。
C8: ◆本書類の構成
C9: 本書類は、以下内容で構成されております。
C10: ①認定審査フォーム
C11: ②取り組み記入シート
C13: ※エントリーにあたって①の認定審査フォームの全6問は回答必須です。
C14: また、②の取り組み記入シート全4問のうち、Q1とQ2も回答必須です。
C15: 最優秀賞、優秀賞を目指す場合はQ3とQ4も回答が必要です。※受付終了のためご回答いただく必要はありません。
C17: ◆安全運転実践事業者について
C18: 【趣旨】
C19: 基本的な事故削減の取り組みを、組織的・継続的に実践している企業・事業者を認定します。
... C44: ・先進性：事故削減の進化に繋がる新しい挑戦である

Sheet ①_認定審査フォーム
C2: ①_認定審査フォーム（Safety Driving Award 2026）
C4: 【認定方法】
C5: 以下のフォームで提出いただく、基本的な事故削減の6つの取り組みの実施状況を元に認定します。
C6: 項目ごとに、具体例に記載されている内容について、貴社の状況に照らし合わせて
C7: すべて実施できている／一部実施できている／実施できていない の3つの選択肢より選択ください。
C9: 一部実施できている／実施できていない を選択した場合は、理由と今後の計画を自由記述欄に記載ください。
C10: すべての項目を実施できている（実施できていない場合は合理的な理由と改善計画がある）ことが、
C11: 「安全運転実践事象者」の認定を受けるために必要です。
C13: ※運送事業者は、認定審査にあたり、直近1年間の行政処分等の内容を確認させていただく場合があります。
C15: 貴社名
C16: 部署名/拠点名
C17: 対象部門 | D17: （選択してください）
C20: 1. 安全管理の責任・体制構築
C21: （実施内容の具体例） ・運転の安全管理の責任者が明確になっている（経営トップ、事業部門の責任者など） ・安全管理体制の構築に必要な人員の配置を行い、その者の責任・権限を明確に定め、周知している
C22: ▼実施状況 | D22: ▼一部実施できている／実施できていないを選択した場合は理由と今後の計画を記入
C23: （選択してください）
C25: 2. 目標の設定と社内コミュニケーション
C26: （実施内容の具体例） ・安全運転に関する目標を定め、その目標を達成するための具体的な取組計画を作っている ・安全目標や取組計画を周知する情報伝達の仕組み（上から下）や、現場の取組状況や課題などが報告・上申される仕組み（下から上）がある
C27: ▼実施状況 | D27: ▼一部実施できている／実施できていないを選択した場合は理由と今後の計画を記入
C28: （選択してください）
C30: 3. 事故情報等の収集・活用
C31: （実施内容の具体例） ・事故が発生した場合の報告の仕組みがある ・発生した事故の再発防止策を考え、実行している ・ヒヤリ・ハット情報や他社の事故事例などを集め、事故防止に活用している
C32: ▼実施状況 | D32: ▼一部実施できている／実施できていないを選択した場合は理由と今後の計画を記入
C33: （選択してください）
C35: 4. 教育・訓練等の取組
C36: （実施内容の具体例） ・安全運転に必要な教育・訓練を定期的に実施している ・重大な事故が発生した場合の対応方法を定め、マニュアルなどによって社内に周知している
C37: ▼実施状況 | D37: ▼一部実施できている／実施できていないを選択した場合は理由と今後の計画を記入
C38: （選択してください）
C40: 5. 点検及び見直し・改善
C41: （実施内容の具体例） ・少なくとも年に1回は安全管理の取組状況を点検し、問題があれば改善している ・安全管理の取組状況の点検結果や見直し・改善の状況が、安全管理の責任者に適時、適切に報告されている
C42: ▼実施状況 | D42: ▼一部実施できている／実施できていないを選択した場合は理由と今後の計画を記入
C43: （選択してください）
C45: 6. 法令順守
C46: （実施内容の具体例） ・関係法令及び最新の改正状況を把握している ・運転記録の管理や点呼（酒気帯び確認）などの安全運転管理業務が法令に則って適切に実施されている
C47: ▼実施状況 | D47: ▼一部実施できている／実施できていないを選択した場合は理由と今後の計画を記入
C48: （選択してください）

Sheet ②_取り組み記入シート
C2: ②_取り組み記入シート（Safety Driving Award 2026）
C4: ※Q1とQ2は回答必須です（文字数制限はありません）
C5: 最優秀賞、優秀賞を目指す場合はQ3とQ4も回答が必要です。※受付終了のためご回答いただく必要はありません。
C7: 公式サイトからダウンロードできる「概要資料」に、記載例を含めた回答の手引きの資料がありますので、参考にしてください
C9: Q1. あなたの会社が社用車の交通事故削減のため特に力を入れて取り組んだ内容を教えてください。（必須）
C10: ※事故削減の成果をあげるために「実施した背景・課題」「特に工夫した点」を重点的にご説明ください。
C20: Q2. 上記の取り組み前と比較して、交通事故削減に関して得られた成果を教えてください。（必須）
C21: 2-1. 交通事故の総件数が削減された | O21: （選択してください）
C22: 2-2. 重大事故（人身事故や損害の大きな事故）が削減された | O22: （選択してください）
C23: 2-3. ドライバー・管理者の安全意識が高まった | O23: （選択してください）
C24: 2-4. サービス品質向上に繋がり、お客様の満足度が高まった | O24: （選択してください）
C25: 2-5. 交通事故削減・安全管理の業務が効率化された | O25: （選択してください）
C26: 2-6. 第三者から安全管理にまつわる取り組みの表彰を受けた | O26: （選択してください）
C27: 2-7. 交通事故関連コスト（自動車保険料や修理費など）が下がった | O27: （選択してください）
C28: 2-8. その他の成果が得られた（3.にて詳述ください） | O28: （選択してください）
C30: Q3. 2.にて得られた成果として「はい」を選んだものについて、具体的な成果内容を教えてください。（任意）
C31: ※たとえば事故件数なら削減割合、事故種別などを具体的にご記載ください
C41: Q4. あなたの会社が社用車の交通事故削減に力を入れて取り組む理由、
C42: 日頃から社内で共有されている安全管理に対する考え方を教えてください。（任意）

Sheet (事務局 作業用)
B2: ①_認定審査フォーム（Safety Driving Award 2026） | Q2: ②_取り組み記入シート（Safety Driving Award 2026）
B3: 貴社名 | C3: 部署名/拠点名 | D3: 対象部門 | E3: 1. 安全管理の責任・体制構築_実施状況 | F3: 1. 安全管理の責任・体制構築_自由記述 | G3: 2.目標の設定と社内コミュニケーション_実施状況 | H3: 2.目標の設定と社内コミュニケーション_自由記述 | I3: 3.事故情報等の収集・活用_実施状況 | J3: 3.事故情報等の収集・活用_自由記述 | K3: 4.教育・訓練等の取組_実施状況 | L3: 4.教育・訓練等の取組_自由記述 | M3: 5.点検及び見直し・改善_実施状況 | N3: 5.点検及び見直し・改善_自由記述 | O3: 6.法令順守_実施状況 | P3: 6.法令順守_自由記述 | Q3: Q1 | R3: Q2_1 | S3: Q2_2 | T3: Q2_3 | U3: Q2_4 | V3: Q2_5 | W3: Q2_6 | X3: Q2_7 | Y3: Q2_8 | Z3: Q3 | AA3: Q4
B4: =①_認定審査フォーム!D15 -> 0 | C4: =①_認定審査フォーム!D16 -> 0 | D4: =①_認定審査フォーム!D17 -> （選択してください） | E4: =①_認定審査フォーム!C23 -> （選択してください） | F4: =①_認定審査フォーム!D23 -> 0 | G4: =①_認定審査フォーム!C28 -> （選択してください） | H4: =①_認定審査フォーム!D28 -> 0 | I4: =①_認定審査フォーム!C33 -> （選択してください） | J4: =①_認定審査フォーム!D33 -> 0 | K4: =①_認定審査フォーム!C38 -> （選択してください） | L4: =①_認定審査フォーム!D38 -> 0 | M4: =①_認定審査フォーム!C43 -> （選択してください） | N4: =①_認定審査フォーム!D43 -> 0 | O4: =①_認定審査フォーム!C48 -> （選択してください） | P4: =①_認定審査フォーム!D48 -> 0 | Q4: =②_取り組み記入シート!C11 -> 0 | R4: =②_取り組み記入シート!O21 -> （選択してください） | S4: =②_取り組み記入シート!O22 -> （選択してください） | T4: =②_取り組み記入シート!O23 -> （選択してください） | U4: =②_取り組み記入シート!O24 -> （選択してください） | V4: =②_取り組み記入シート!O25 -> （選択してください） | W4: =②_取り組み記入シート!O26 -> （選択してください） | X4: =②_取り組み記入シート!O27 -> （選択してください） | Y4: =②_取り組み記入シート!O28 -> （選択してください） | Z4: =②_取り組み記入シート!C32 -> 0 | AA4: =②_取り組み記入シート!C43 -> 0
